Workbook

Sheet Dealer Order
A1: HND DEALER PRESEASON PROGRAM
A2: 2027 PRESEASON ORDER
A3: Questions? info@hndfishing.com | I3: hndfishing.com
A4: Complete the GREEN cells only. Enter whole CASE quantities. Pricing and totals are calculated automatically. Scroll normally to review the product order.
A6: STEP 1 — SOLD TO | F6: STEP 2 — SHIP TO
A7: Dealer Name | F7: Company / Dealer | H7: =IF(C7="","",C7)
A8: Contact Name | F8: Contact | H8: =IF(C8="","",C8)
A9: Email | F9: Address | H9: =IF(C11="","",C11)
A10: Phone | F10: City / State / ZIP | H10: =IF(C12="","",C12)
A11: Address | F11: Shipping Notes
A12: City / State / ZIP
A13: ORDER INFORMATION
A14: Order # | C14: sss | D14: PO Number | F14: sss | G14: Order Date | I14: =TODAY() -> 46265
A16: STEP 3 — SHIPMENT DATES
A17: SHIPMENT 1 | D17: SHIPMENT 2 | G17: SHIPMENT 3
A19: Shipment dates: January 1–November 30, 2027. Enter dates in Step 3 only; product shipment dates are linked to these fields.
A20: SHIPMENT DATE CHECK
A21: STEP 4 — PRODUCT ORDER
A22: Product | B22: SKU | C22: MSRP | D22: Case Price | E22: Cases to Order | F22: Ship 1 | G22: Ship 2 | H22: Ship 3 | I22: Status | J22: Ext. Total
F23: =IF(A18="","",A18) | G23: =IF(D18="","",D18) | H23: =IF(G18="","",G18)
A24: Gel Floatant | B24: 1001 | C24: 11.5 | D24: 115 | E24: 0 | F24: 0 | G24: 0 | H24: 0 | I24: =IF(E24=0,"No Order",IF(E24=SUM(F24:H24),"Complete",IF(E24>SUM(F24:H24),"Unassigned: "&(E24-SUM(F24:H24))&" case(s)","Over: "&(SUM(F24:H24)-E24)&" case(s)"))) -> No Order | J24: =E24*D24 -> 0
A25: Liquid Floatant | B25: 1002 | C25: 13.99 | D25: 70 | E25: 0 | F25: 0 | G25: 0 | H25: 0 | I25: =IF(E25=0,"No Order",IF(E25=SUM(F25:H25),"Complete",IF(E25>SUM(F25:H25),"Unassigned: "&(E25-SUM(F25:H25))&" case(s)","Over: "&(SUM(F25:H25)-E25)&" case(s)"))) -> No Order | J25: =E25*D25 -> 0
A26: Powdered Floatant & Desiccant | B26: 1003 | C26: 11.99 | D26: 60 | E26: 0 | F26: 0 | G26: 0 | H26: 0 | I26: =IF(E26=0,"No Order",IF(E26=SUM(F26:H26),"Complete",IF(E26>SUM(F26:H26),"Unassigned: "&(E26-SUM(F26:H26))&" case(s)","Over: "&(SUM(F26:H26)-E26)&" case(s)"))) -> No Order | J26: =E26*D26 -> 0
A27: Powder Floatant with Applicator Brush | B27: 1004 | C27: 8.99 | D27: 90 | E27: 0 | F27: 0 | G27: 0 | H27: 0 | I27: =IF(E27=0,"No Order",IF(E27=SUM(F27:H27),"Complete",IF(E27>SUM(F27:H27),"Unassigned: "&(E27-SUM(F27:H27))&" case(s)","Over: "&(SUM(F27:H27)-E27)&" case(s)"))) -> No Order | J27: =E27*D27 -> 0
A28: Liquid Spray Floatant | B28: 1005 | C28: 11.99 | D28: 90 | E28: 0 | F28: 0 | G28: 0 | H28: 0 | I28: =IF(E28=0,"No Order",IF(E28=SUM(F28:H28),"Complete",IF(E28>SUM(F28:H28),"Unassigned: "&(E28-SUM(F28:H28))&" case(s)","Over: "&(SUM(F28:H28)-E28)&" case(s)"))) -> No Order | J28: =E28*D28 -> 0
A29: Line Dressing | B29: 1006 | C29: 11.5 | D29: 115 | E29: 0 | F29: 0 | G29: 0 | H29: 0 | I29: =IF(E29=0,"No Order",IF(E29=SUM(F29:H29),"Complete",IF(E29>SUM(F29:H29),"Unassigned: "&(E29-SUM(F29:H29))&" case(s)","Over: "&(SUM(F29:H29)-E29)&" case(s)"))) -> No Order | J29: =E29*D29 -> 0
A30: Paste Floatant | B30: 1007 | C30: 11.99 | D30: 120 | E30: 0 | F30: 0 | G30: 0 | H30: 0 | I30: =IF(E30=0,"No Order",IF(E30=SUM(F30:H30),"Complete",IF(E30>SUM(F30:H30),"Unassigned: "&(E30-SUM(F30:H30))&" case(s)","Over: "&(SUM(F30:H30)-E30)&" case(s)"))) -> No Order | J30: =E30*D30 -> 0
A31: Holder (Gel/FLD) Bagged | B31: 1008 | C31: 11.99 | D31: 30 | E31: 0 | F31: 0 | G31: 0 | H31: 0 | I31: =IF(E31=0,"No Order",IF(E31=SUM(F31:H31),"Complete",IF(E31>SUM(F31:H31),"Unassigned: "&(E31-SUM(F31:H31))&" case(s)","Over: "&(SUM(F31:H31)-E31)&" case(s)"))) -> No Order | J31: =E31*D31 -> 0
A32: Holder (Liquid/P&D) Bagged | B32: 1009 | C32: 13.99 | D32: 35 | E32: 0 | F32: 0 | G32: 0 | H32: 0 | I32: =IF(E32=0,"No Order",IF(E32=SUM(F32:H32),"Complete",IF(E32>SUM(F32:H32),"Unassigned: "&(E32-SUM(F32:H32))&" case(s)","Over: "&(SUM(F32:H32)-E32)&" case(s)"))) -> No Order | J32: =E32*D32 -> 0
A33: Holder (PwB/Spray) Bagged | B33: 1010 | C33: 13.99 | D33: 35 | E33: 0 | F33: 0 | G33: 0 | H33: 0 | I33: =IF(E33=0,"No Order",IF(E33=SUM(F33:H33),"Complete",IF(E33>SUM(F33:H33),"Unassigned: "&(E33-SUM(F33:H33))&" case(s)","Over: "&(SUM(F33:H33)-E33)&" case(s)"))) -> No Order | J33: =E33*D33 -> 0
A34: Holder (Gel/FLD) Cardboard Backer | B34: 1011 | C34: 11.99 | D34: 30 | E34: 0 | F34: 0 | G34: 0 | H34: 0 | I34: =IF(E34=0,"No Order",IF(E34=SUM(F34:H34),"Complete",IF(E34>SUM(F34:H34),"Unassigned: "&(E34-SUM(F34:H34))&" case(s)","Over: "&(SUM(F34:H34)-E34)&" case(s)"))) -> No Order | J34: =E34*D34 -> 0
A35: Holder (Liquid/P&D) Cardboard Backer | B35: 1012 | C35: 13.99 | D35: 35 | E35: 0 | F35: 0 | G35: 0 | H35: 0 | I35: =IF(E35=0,"No Order",IF(E35=SUM(F35:H35),"Complete",IF(E35>SUM(F35:H35),"Unassigned: "&(E35-SUM(F35:H35))&" case(s)","Over: "&(SUM(F35:H35)-E35)&" case(s)"))) -> No Order | J35: =E35*D35 -> 0
... A45: Leader Wax (Natural) | B45: 1022 | C45: 7.99 | D45: 40 | E45: 0 | F45: 0 | G45: 0 | H45: 0 | I45: =IF(E45=0,"No Order",IF(E45=SUM(F45:H45),"Complete",IF(E45>SUM(F45:H45),"Unassigned: "&(E45-SUM(F45:H45))&" case(s)","Over: "&(SUM(F45:H45)-E45)&" case(s)"))) -> No Order | J45: =E45*D45 -> 0
A46: TOTALS | E46: =SUM(E24:E45) -> 0 | F46: =SUM(F24:F45) -> 0 | G46: =SUM(G24:G45) -> 0 | H46: =SUM(H24:H45) -> 0 | J46: =SUM(J24:J45) -> 0
A47: STEP 5 — ORDER SUMMARY
A48: Shipment Summary → See the Shipment Summary tab for automatically organized shipment quantities.
A49: ORDER TOTALS | F49: BEFORE YOU SUBMIT
A50: Total Cases | D50: =E46 -> 0 | F50: Dealer & Ship Information | I50: =IF(AND(LEN(TRIM(C7))>0,LEN(TRIM(C8))>0,LEN(TRIM(C9))>0,LEN(TRIM(C11))>0,LEN(TRIM(C12))>0,LEN(TRIM(H7))>0,LEN(TRIM(H8))>0,LEN(TRIM(H9))>0,LEN(TRIM(H10))>0,ISNUMBER(SEARCH("@",C9)),ISNUMBER(SEARCH(".",C9,SEARCH("@",C9)+2)),OR(LEN(TRIM(C10))=0,LEN(SUBSTITUTE(SUBSTITUTE(SUBSTITUTE(SUBSTITUTE(SUBSTITUTE(C10,"-",""),"(",""),")","")," ",""),".",""))>=10)),"READY","CHECK") -> CHECK
A51: Merchandise Total | D51: =J46 -> 0 | F51: At Least One Product | I51: =IF(SUM(E24:E45)>0,"READY","CHECK") -> CHECK
A52: Discount | C52: =IF(D51>=1200,20%,IF(D51>=800,10%,IF(D51>=500,4%,0%))) -> 0 | D52: =D51*C52 -> 0 | F52: Shipment Dates | I52: =IF(AND(ISNUMBER(A18),A18>=DATE(2027,1,1),A18<=DATE(2027,11,30),OR(D18="",AND(ISNUMBER(D18),D18>=DATE(2027,1,1),D18<=DATE(2027,11,30))),OR(G18="",AND(ISNUMBER(G18),G18>=DATE(2027,1,1),G18<=DATE(2027,11,30)))),"READY","CHECK") -> CHECK
...

Sheet 2026 Preseason Order Sheet
D2: 1-866-737-9359 | H2: Order No.
D4: www.highndryfishingproducts.com | H4: Purchase Order No.
H6: Contact:
A7: High N Dry Fishing Products, LLC
A8: 14015 Timber Grove Ln | H8: Buyer:
A9: Elbert, CO 80106
H10: Date:
A12: Where Science and Performance Meet
A14: Sold to: | G14: Ship to:
C22: Sales Representative | J22: Notes
A24: Quantity | J24: Unit | K24: Retail | L24: Case | M24: Extended
A25: Cases | B25: MOQ/Units per Case | C25: Item Number | E25: UPC | F25: Description | J25: Price | K25: Price | L25: Price | M25: Price
A26: 0 | B26: 20 | C26: 1001 | E26: 728028355260 | F26: Gel Floatant | J26: 5 | K26: 9.99 | L26: =J26*20 -> 100 | M26: =A26*L26 -> 0
A27: 0 | B27: 10 | C27: 1002 | E27: 728028355253 | F27: Liquid Floatant | J27: 6 | K27: 11.99 | L27: =J27*10 -> 60 | M27: =A27*L27 -> 0
A28: 0 | B28: 10 | C28: 1003 | E28: 728028378825 | F28: Powdered Floatant & Desiccant | J28: 5 | K28: 9.99 | L28: =J28*10 -> 50 | M28: =A28*L28 -> 0
A29: 0 | B29: 20 | C29: 1004 | E29: 728028421378 | F29: Powder Floatant with Applicator Brush | J29: 4 | K29: 7.99 | L29: =J29*20 -> 80 | M29: =A29*L29 -> 0
A30: 0 | B30: 15 | C30: 1005 | E30: 728028454277 | F30: Liquid Spray Floatant | J30: 5 | K30: 9.99 | L30: 75 | M30: =A30*L30 -> 0
A31: 0 | B31: 20 | C31: 1006 | E31: 728028503005 | F31: Line Dressing | J31: 5 | K31: 9.99 | L31: 100 | M31: =A31*L31 -> 0
A32: 0 | B32: 20 | C32: 1007 | E32: 728028502992 | F32: Paste Floatant | J32: 5 | K32: 9.99 | L32: 100 | M32: =A32*L32 -> 0
A33: 0 | B33: 5 | C33: 1008 | E33: 850060987038 | F33: Holder (Gel/FLD) Bagged | J33: 6 | K33: 11.99 | L33: 30 | M33: =A33*L33 -> 0
A34: 0 | B34: 5 | C34: 1009 | E34: 850060987045 | F34: Holder (Liquid/P&D) Bagged | J34: 7 | K34: 12.99 | L34: 35 | M34: =A34*L34 -> 0
A35: 0 | B35: 5 | C35: 1010 | E35: 850060987052 | F35: Holder (PwB/Spray) Bagged | J35: 7 | K35: 12.99 | L35: 35 | M35: =A35*L35 -> 0
A36: 0 | B36: 5 | C36: 1011 | E36: 850060987038 | F36: Holder (Gel/FLD) Cardboard Backer | J36: 6 | K36: 11.99 | L36: 30 | M36: =A36*L36 -> 0
A37: 0 | B37: 5 | C37: 1012 | E37: 850060987045 | F37: Holder (Liquid/P&D) Cardboard Backer | J37: 7 | K37: 12.99 | L37: 35 | M37: =A37*L37 -> 0
A38: 0 | B38: 5 | C38: 1013 | E38: 850060987052 | F38: Holder (PwB/Spray) Cardboard Backer | J38: 7 | K38: 12.99 | L38: 35 | M38: =A38*L38 -> 0
A39: 0 | B39: 20 | C39: 1014 | E39: 850060987076 | F39: Liquid Floatant Drops | J39: 3 | K39: 5.99 | L39: 60 | M39: =A39*L39 -> 0
A40: 0 | B40: 10 | C40: 1015 | E40: 850060987069 | F40: Floatant Pretreatment | J40: 6.5 | K40: 12.99 | L40: 65 | M40: =A40*L40 -> 0
A41: 0 | B41: 10 | C41: 1016 | E41: 850060987083 | F41: Sighter Wax (Neon Pink) | J41: 4 | K41: 7.99 | L41: =SUM(J41*10) -> 40 | M41: =A41*L41 -> 0
A42: 0 | B42: 10 | C42: 1017 | E42: 850060987090 | F42: Sighter Wax (Neon Orange) | J42: 4 | K42: 7.99 | L42: =SUM(J42*10) -> 40 | M42: =A42*L42 -> 0
A43: 0 | B43: 10 | C43: 1018 | E43: 850060987106 | F43: Sighter Wax (Neon Yellow) | J43: 4 | K43: 7.99 | L43: =SUM(J43*10) -> 40 | M43: =A43*L43 -> 0
A44: 0 | B44: 10 | C44: 1019 | E44: 850060987113 | F44: Sighter Wax (Neon Green) | J44: 4 | K44: 7.99 | L44: =SUM(J44*10) -> 40 | M44: =A44*L44 -> 0
A45: 0 | B45: 10 | C45: 1020 | E45: 850060987120 | F45: Sighter Wax (Glow in the Dark) | J45: 7 | K45: 13.99 | L45: =SUM(J45*10) -> 70 | M45: =A45*L45 -> 0
A46: 0 | B46: 10 | C46: 1021 | E46: 850060987137 | F46: Sighter Wax (White) | J46: 4 | K46: 7.99 | L46: =SUM(J46*10) -> 40 | M46: =A46*L46 -> 0
A47: 0 | B47: 10 | C47: 1022 | F47: Leader Wax (Natural) | J47: 4 | K47: 7.99 | L47: =J47*B47 -> 40 | M47: =A47*L47 -> 0
L48: Subtotal | M48: =SUM(M26:M47) -> 0
H49: Product | I49: Discount | M49: Amount Due
A50: Order Placed By: | H50: Subtotal | I50: Percentage | M50: (less shipping)
C52: Totals | H52: =M48 -> 0 | I52: =_xludf.IFS(M48>=1200,0.2,M48>=800,0.1,M48>=500,0.04,M48>=0,0) -> #NAME? | M52: =SUM(H52-B64) -> #NAME?
B54: Scheduled Shipping Dates:
C55: Ship No. | D55: Ship Date | E55: Gel | F55: Liquid | G55: Powdered Floatant and Desiccant | H55: Powdered Floatant with Brush | I55: Spray | J55: Paste | K55: Fly Line Dressing | L55: Holder (Gel/FLD) Bagged | M55: Holder (Liquid/P&D) Bagged | N55: Holder (PwB/Spray) Bagged | O55: Holder (Gel/FLD) Backer | P55: Holder (Liquid/P&D) Backer | Q55: Holder (PwB/Spray) Backer | R55: Liquid Floatant Drops | S55: Floatant Pretreatment | T55: Sighter Wax (Neon Pink) | U55: Sighter Wax (Neon Orange) | V55: Sighter Wax (Neon Yellow) | W55: Sighter Wax (Neon Green) | X55: Sighter Wax (White) | Y55: Sighter Wax (Glow)
...

Sheet 2027 Preseason Pricing
A1: 2026 High N Dry Fishing Products
B2: Preseason Sales Program Terms and Conditions
C3: Orders must be placed by November 30, 2025 and scheduled for delivery in 2026
C4: Invoice generated at time of scheduled delivery/Payment due 30 days from invoice date
C5: Shipping to be added at the time of invoice/delivery
C6: Maximum of three delivery dates allowed
B8: Entry level - 2.0% Margin Improvement
C10: Can purchase any combination of product
C11: Minimum Purchase Dollars | D11: 500 | E11: (Can be scheduled for multiple deliveries in 2026)
C12: New Dealer Gross Margin % | D12: 0.52
B14: Mid-level - 5% Margin Improvement
C16: Can purchase any combination of product
C17: Minimum Purchase Dollars | D17: 800 | E17: (Can be scheduled for multiple deliveries in 2026)
C18: New Dealer Gross Margin % | D18: 0.55
B20: Max program - 10% Margin Improvement
C22: Can purchase any combination of product
C23: Minimum Purchase Dollars | D23: 1200 | E23: (Can be scheduled for multiple deliveries in 2026)
C24: New Dealer Gross Margin % | D24: 0.6
B26: FREE SHIPPING OFFER
C28: Order at least one case (MOQ) of every HND product and get free shipping on all scheduled preseason orders*
C30: *Does not include any additional ASAP orders placed in 2026, unless the individual order contains at least one case of each product
C31: Only requires one version of each of the three models of Holders (i.e. DO NOT need to purchase both cardboard backers and bagged)

Sheet Shipment Summary
A1: HND PRESEASON SHIPMENT SUMMARY
A2: Automatically generated from the Dealer Order sheet
A4: =IF('Dealer Order'!A18="","Shipment 1", "Shipment 1 — "&TEXT('Dealer Order'!A18,"m/d/yy")) -> Shipment 1 | E4: =IF('Dealer Order'!D18="","Shipment 2", "Shipment 2 — "&TEXT('Dealer Order'!D18,"m/d/yy")) -> Shipment 2 | I4: =IF('Dealer Order'!G18="","Shipment 3", "Shipment 3 — "&TEXT('Dealer Order'!G18,"m/d/yy")) -> Shipment 3
A5: Product | B5: Cases | C5: Case Value | E5: Product | F5: Cases | G5: Case Value | I5: Product | J5: Cases | K5: Case Value
A6: ='Dealer Order'!A24 -> Gel Floatant | B6: ='Dealer Order'!F24 -> 0 | C6: =IFERROR(B6*'Dealer Order'!D24,0) -> 0 | E6: ='Dealer Order'!A24 -> Gel Floatant | F6: ='Dealer Order'!G24 -> 0 | G6: =IFERROR(F6*'Dealer Order'!D24,0) -> 0 | I6: ='Dealer Order'!A24 -> Gel Floatant | J6: ='Dealer Order'!H24 -> 0 | K6: =IFERROR(J6*'Dealer Order'!D24,0) -> 0
A7: ='Dealer Order'!A25 -> Liquid Floatant | B7: ='Dealer Order'!F25 -> 0 | C7: =IFERROR(B7*'Dealer Order'!D25,0) -> 0 | E7: ='Dealer Order'!A25 -> Liquid Floatant | F7: ='Dealer Order'!G25 -> 0 | G7: =IFERROR(F7*'Dealer Order'!D25,0) -> 0 | I7: ='Dealer Order'!A25 -> Liquid Floatant | J7: ='Dealer Order'!H25 -> 0 | K7: =IFERROR(J7*'Dealer Order'!D25,0) -> 0
A8: ='Dealer Order'!A26 -> Powdered Floatant & Desiccant | B8: ='Dealer Order'!F26 -> 0 | C8: =IFERROR(B8*'Dealer Order'!D26,0) -> 0 | E8: ='Dealer Order'!A26 -> Powdered Floatant & Desiccant | F8: ='Dealer Order'!G26 -> 0 | G8: =IFERROR(F8*'Dealer Order'!D26,0) -> 0 | I8: ='Dealer Order'!A26 -> Powdered Floatant & Desiccant | J8: ='Dealer Order'!H26 -> 0 | K8: =IFERROR(J8*'Dealer Order'!D26,0) -> 0
A9: ='Dealer Order'!A27 -> Powder Floatant with Applicator Brush | B9: ='Dealer Order'!F27 -> 0 | C9: =IFERROR(B9*'Dealer Order'!D27,0) -> 0 | E9: ='Dealer Order'!A27 -> Powder Floatant with Applicator Brush | F9: ='Dealer Order'!G27 -> 0 | G9: =IFERROR(F9*'Dealer Order'!D27,0) -> 0 | I9: ='Dealer Order'!A27 -> Powder Floatant with Applicator Brush | J9: ='Dealer Order'!H27 -> 0 | K9: =IFERROR(J9*'Dealer Order'!D27,0) -> 0
A10: ='Dealer Order'!A28 -> Liquid Spray Floatant | B10: ='Dealer Order'!F28 -> 0 | C10: =IFERROR(B10*'Dealer Order'!D28,0) -> 0 | E10: ='Dealer Order'!A28 -> Liquid Spray Floatant | F10: ='Dealer Order'!G28 -> 0 | G10: =IFERROR(F10*'Dealer Order'!D28,0) -> 0 | I10: ='Dealer Order'!A28 -> Liquid Spray Floatant | J10: ='Dealer Order'!H28 -> 0 | K10: =IFERROR(J10*'Dealer Order'!D28,0) -> 0
A11: ='Dealer Order'!A29 -> Line Dressing | B11: ='Dealer Order'!F29 -> 0 | C11: =IFERROR(B11*'Dealer Order'!D29,0) -> 0 | E11: ='Dealer Order'!A29 -> Line Dressing | F11: ='Dealer Order'!G29 -> 0 | G11: =IFERROR(F11*'Dealer Order'!D29,0) -> 0 | I11: ='Dealer Order'!A29 -> Line Dressing | J11: ='Dealer Order'!H29 -> 0 | K11: =IFERROR(J11*'Dealer Order'!D29,0) -> 0
A12: ='Dealer Order'!A30 -> Paste Floatant | B12: ='Dealer Order'!F30 -> 0 | C12: =IFERROR(B12*'Dealer Order'!D30,0) -> 0 | E12: ='Dealer Order'!A30 -> Paste Floatant | F12: ='Dealer Order'!G30 -> 0 | G12: =IFERROR(F12*'Dealer Order'!D30,0) -> 0 | I12: ='Dealer Order'!A30 -> Paste Floatant | J12: ='Dealer Order'!H30 -> 0 | K12: =IFERROR(J12*'Dealer Order'!D30,0) -> 0
A13: ='Dealer Order'!A31 -> Holder (Gel/FLD) Bagged | B13: ='Dealer Order'!F31 -> 0 | C13: =IFERROR(B13*'Dealer Order'!D31,0) -> 0 | E13: ='Dealer Order'!A31 -> Holder (Gel/FLD) Bagged | F13: ='Dealer Order'!G31 -> 0 | G13: =IFERROR(F13*'Dealer Order'!D31,0) -> 0 | I13: ='Dealer Order'!A31 -> Holder (Gel/FLD) Bagged | J13: ='Dealer Order'!H31 -> 0 | K13: =IFERROR(J13*'Dealer Order'!D31,0) -> 0
A14: ='Dealer Order'!A32 -> Holder (Liquid/P&D) Bagged | B14: ='Dealer Order'!F32 -> 0 | C14: =IFERROR(B14*'Dealer Order'!D32,0) -> 0 | E14: ='Dealer Order'!A32 -> Holder (Liquid/P&D) Bagged | F14: ='Dealer Order'!G32 -> 0 | G14: =IFERROR(F14*'Dealer Order'!D32,0) -> 0 | I14: ='Dealer Order'!A32 -> Holder (Liquid/P&D) Bagged | J14: ='Dealer Order'!H32 -> 0 | K14: =IFERROR(J14*'Dealer Order'!D32,0) -> 0
A15: ='Dealer Order'!A33 -> Holder (PwB/Spray) Bagged | B15: ='Dealer Order'!F33 -> 0 | C15: =IFERROR(B15*'Dealer Order'!D33,0) -> 0 | E15: ='Dealer Order'!A33 -> Holder (PwB/Spray) Bagged | F15: ='Dealer Order'!G33 -> 0 | G15: =IFERROR(F15*'Dealer Order'!D33,0) -> 0 | I15: ='Dealer Order'!A33 -> Holder (PwB/Spray) Bagged | J15: ='Dealer Order'!H33 -> 0 | K15: =IFERROR(J15*'Dealer Order'!D33,0) -> 0
A16: ='Dealer Order'!A34 -> Holder (Gel/FLD) Cardboard Backer | B16: ='Dealer Order'!F34 -> 0 | C16: =IFERROR(B16*'Dealer Order'!D34,0) -> 0 | E16: ='Dealer Order'!A34 -> Holder (Gel/FLD) Cardboard Backer | F16: ='Dealer Order'!G34 -> 0 | G16: =IFERROR(F16*'Dealer Order'!D34,0) -> 0 | I16: ='Dealer Order'!A34 -> Holder (Gel/FLD) Cardboard Backer | J16: ='Dealer Order'!H34 -> 0 | K16: =IFERROR(J16*'Dealer Order'!D34,0) -> 0
A17: ='Dealer Order'!A35 -> Holder (Liquid/P&D) Cardboard Backer | B17: ='Dealer Order'!F35 -> 0 | C17: =IFERROR(B17*'Dealer Order'!D35,0) -> 0 | E17: ='Dealer Order'!A35 -> Holder (Liquid/P&D) Cardboard Backer | F17: ='Dealer Order'!G35 -> 0 | G17: =IFERROR(F17*'Dealer Order'!D35,0) -> 0 | I17: ='Dealer Order'!A35 -> Holder (Liquid/P&D) Cardboard Backer | J17: ='Dealer Order'!H35 -> 0 | K17: =IFERROR(J17*'Dealer Order'!D35,0) -> 0
... A27: ='Dealer Order'!A45 -> Leader Wax (Natural) | B27: ='Dealer Order'!F45 -> 0 | C27: =IFERROR(B27*'Dealer Order'!D45,0) -> 0 | E27: ='Dealer Order'!A45 -> Leader Wax (Natural) | F27: ='Dealer Order'!G45 -> 0 | G27: =IFERROR(F27*'Dealer Order'!D45,0) -> 0 | I27: ='Dealer Order'!A45 -> Leader Wax (Natural) | J27: ='Dealer Order'!H45 -> 0 | K27: =IFERROR(J27*'Dealer Order'!D45,0) -> 0
A28: TOTAL | B28: =SUM(B6:B27) -> 0 | C28: =SUM(C6:C27) -> 0 | E28: TOTAL | F28: =SUM(F6:F27) -> 0 | G28: =SUM(G6:G27) -> 0 | I28: TOTAL | J28: =SUM(J6:J27) -> 0 | K28: =SUM(K6:K27) -> 0
A31: SHIPMENT ALLOCATION CHECK
A32: =IF('Dealer Order'!I51="READY","ALL SHIPMENTS BALANCE","REVIEW ORDER ALLOCATION") -> REVIEW ORDER ALLOCATION
